BEGIN:VCALENDAR
VERSION:2.0
PRODID:-//社会福祉法人　太陽保育園 - ECPv6.15.14//NONSGML v1.0//EN
CALSCALE:GREGORIAN
METHOD:PUBLISH
X-ORIGINAL-URL:https://taiyons.jp
X-WR-CALDESC:社会福祉法人　太陽保育園 のイベント
REFRESH-INTERVAL;VALUE=DURATION:PT1H
X-Robots-Tag:noindex
X-PUBLISHED-TTL:PT1H
BEGIN:VTIMEZONE
TZID:Asia/Tokyo
BEGIN:STANDARD
TZOFFSETFROM:+0900
TZOFFSETTO:+0900
TZNAME:JST
DTSTART:20250101T000000
END:STANDARD
END:VTIMEZONE
BEGIN:VEVENT
DTSTART;VALUE=DATE:20260105
DTEND;VALUE=DATE:20260106
DTSTAMP:20260421T064632
CREATED:20251223T081958Z
LAST-MODIFIED:20251223T081958Z
UID:1937-1767571200-1767657599@taiyons.jp
SUMMARY:令和8年　始園
DESCRIPTION:
URL:https://taiyons.jp/event/%e4%bb%a4%e5%92%8c8%e5%b9%b4%e3%80%80%e5%a7%8b%e5%9c%92/
ATTACH;FMTTYPE=image/jpeg:https://taiyons.jp/wp-content/uploads/2024/11/400400.jpg
END:VEVENT
BEGIN:VEVENT
DTSTART;VALUE=DATE:20260106
DTEND;VALUE=DATE:20260107
DTSTAMP:20260421T064632
CREATED:20260106T010758Z
LAST-MODIFIED:20260106T010758Z
UID:1964-1767657600-1767743999@taiyons.jp
SUMMARY:ダンス
DESCRIPTION:
URL:https://taiyons.jp/event/%e3%83%80%e3%83%b3%e3%82%b9-55/
ATTACH;FMTTYPE=image/jpeg:https://taiyons.jp/wp-content/uploads/2023/04/ダンス.jpg
END:VEVENT
BEGIN:VEVENT
DTSTART;VALUE=DATE:20260108
DTEND;VALUE=DATE:20260109
DTSTAMP:20260421T064632
CREATED:20251223T082200Z
LAST-MODIFIED:20251225T025425Z
UID:1939-1767830400-1767916799@taiyons.jp
SUMMARY:焼き物教室
DESCRIPTION:
URL:https://taiyons.jp/event/%e7%84%bc%e3%81%8d%e7%89%a9%e6%95%99%e5%ae%a4/
ATTACH;FMTTYPE=image/jpeg:https://taiyons.jp/wp-content/uploads/2025/12/焼き物教室.jpg
END:VEVENT
BEGIN:VEVENT
DTSTART;VALUE=DATE:20260109
DTEND;VALUE=DATE:20260110
DTSTAMP:20260421T064632
CREATED:20251223T084954Z
LAST-MODIFIED:20251223T084954Z
UID:1941-1767916800-1768003199@taiyons.jp
SUMMARY:誕生日会
DESCRIPTION:
URL:https://taiyons.jp/event/%e8%aa%95%e7%94%9f%e6%97%a5%e4%bc%9a-2/
ATTACH;FMTTYPE=image/jpeg:https://taiyons.jp/wp-content/uploads/2023/04/誕生会.jpg
END:VEVENT
BEGIN:VEVENT
DTSTART;VALUE=DATE:20260114
DTEND;VALUE=DATE:20260115
DTSTAMP:20260421T064632
CREATED:20251223T085154Z
LAST-MODIFIED:20251223T085154Z
UID:1943-1768348800-1768435199@taiyons.jp
SUMMARY:硬筆
DESCRIPTION:
URL:https://taiyons.jp/event/%e7%a1%ac%e7%ad%86-60/
ATTACH;FMTTYPE=image/jpeg:https://taiyons.jp/wp-content/uploads/2023/09/硬筆.jpg
END:VEVENT
BEGIN:VEVENT
DTSTART;VALUE=DATE:20260115
DTEND;VALUE=DATE:20260116
DTSTAMP:20260421T064632
CREATED:20251223T085307Z
LAST-MODIFIED:20251223T085307Z
UID:1945-1768435200-1768521599@taiyons.jp
SUMMARY:英語
DESCRIPTION:
URL:https://taiyons.jp/event/%e8%8b%b1%e8%aa%9e-59/
ATTACH;FMTTYPE=image/jpeg:https://taiyons.jp/wp-content/uploads/2023/04/英語教室.jpg
END:VEVENT
BEGIN:VEVENT
DTSTART;VALUE=DATE:20260120
DTEND;VALUE=DATE:20260121
DTSTAMP:20260421T064632
CREATED:20260106T010903Z
LAST-MODIFIED:20260106T010903Z
UID:1966-1768867200-1768953599@taiyons.jp
SUMMARY:ダンス
DESCRIPTION:
URL:https://taiyons.jp/event/%e3%83%80%e3%83%b3%e3%82%b9-56/
ATTACH;FMTTYPE=image/jpeg:https://taiyons.jp/wp-content/uploads/2025/03/ダンスアイコン.jpg
END:VEVENT
BEGIN:VEVENT
DTSTART;VALUE=DATE:20260121
DTEND;VALUE=DATE:20260122
DTSTAMP:20260421T064632
CREATED:20251223T085435Z
LAST-MODIFIED:20251223T085435Z
UID:1947-1768953600-1769039999@taiyons.jp
SUMMARY:サッカー
DESCRIPTION:
URL:https://taiyons.jp/event/%e3%82%b5%e3%83%83%e3%82%ab%e3%83%bc-30/
ATTACH;FMTTYPE=image/jpeg:https://taiyons.jp/wp-content/uploads/2023/04/サッカー.jpg
END:VEVENT
BEGIN:VEVENT
DTSTART;VALUE=DATE:20260123
DTEND;VALUE=DATE:20260124
DTSTAMP:20260421T064632
CREATED:20251225T024034Z
LAST-MODIFIED:20251225T024448Z
UID:1949-1769126400-1769212799@taiyons.jp
SUMMARY:お茶教室
DESCRIPTION:
URL:https://taiyons.jp/event/%e3%81%8a%e8%8c%b6%e6%95%99%e5%ae%a4-7/
ATTACH;FMTTYPE=image/jpeg:https://taiyons.jp/wp-content/uploads/2023/05/お茶.jpg
END:VEVENT
BEGIN:VEVENT
DTSTART;VALUE=DATE:20260126
DTEND;VALUE=DATE:20260127
DTSTAMP:20260421T064632
CREATED:20251225T024237Z
LAST-MODIFIED:20251225T024237Z
UID:1951-1769385600-1769471999@taiyons.jp
SUMMARY:地震訓練
DESCRIPTION:
URL:https://taiyons.jp/event/%e5%9c%b0%e9%9c%87%e8%a8%93%e7%b7%b4-10/
ATTACH;FMTTYPE=image/jpeg:https://taiyons.jp/wp-content/uploads/2023/04/地震訓練.jpg
END:VEVENT
BEGIN:VEVENT
DTSTART;VALUE=DATE:20260128
DTEND;VALUE=DATE:20260129
DTSTAMP:20260421T064632
CREATED:20260120T025641Z
LAST-MODIFIED:20260120T025641Z
UID:1977-1769558400-1769644799@taiyons.jp
SUMMARY:絵本
DESCRIPTION:
URL:https://taiyons.jp/event/%e7%b5%b5%e6%9c%ac-10/
ATTACH;FMTTYPE=image/jpeg:https://taiyons.jp/wp-content/uploads/2023/05/読み聞かせ.jpg
END:VEVENT
BEGIN:VEVENT
DTSTART;VALUE=DATE:20260129
DTEND;VALUE=DATE:20260130
DTSTAMP:20260421T064632
CREATED:20251225T024412Z
LAST-MODIFIED:20251225T024412Z
UID:1953-1769644800-1769731199@taiyons.jp
SUMMARY:英語
DESCRIPTION:
URL:https://taiyons.jp/event/%e8%8b%b1%e8%aa%9e-60/
ATTACH;FMTTYPE=image/jpeg:https://taiyons.jp/wp-content/uploads/2023/04/英語教室.jpg
END:VEVENT
BEGIN:VEVENT
DTSTART;VALUE=DATE:20260203
DTEND;VALUE=DATE:20260204
DTSTAMP:20260421T064632
CREATED:20260129T024839Z
LAST-MODIFIED:20260129T025225Z
UID:1995-1770076800-1770163199@taiyons.jp
SUMMARY:ダンス
DESCRIPTION:
URL:https://taiyons.jp/event/%e3%83%80%e3%83%b3%e3%82%b9-57/
ATTACH;FMTTYPE=image/jpeg:https://taiyons.jp/wp-content/uploads/2025/03/ダンスアイコン.jpg
END:VEVENT
BEGIN:VEVENT
DTSTART;VALUE=DATE:20260205
DTEND;VALUE=DATE:20260206
DTSTAMP:20260421T064632
CREATED:20260129T024658Z
LAST-MODIFIED:20260129T025344Z
UID:1991-1770249600-1770335999@taiyons.jp
SUMMARY:英語
DESCRIPTION:
URL:https://taiyons.jp/event/%e8%8b%b1%e8%aa%9e-62/
ATTACH;FMTTYPE=image/jpeg:https://taiyons.jp/wp-content/uploads/2023/04/英語教室.jpg
END:VEVENT
BEGIN:VEVENT
DTSTART;VALUE=DATE:20260206
DTEND;VALUE=DATE:20260207
DTSTAMP:20260421T064632
CREATED:20260115T013552Z
LAST-MODIFIED:20260115T013552Z
UID:1971-1770336000-1770422399@taiyons.jp
SUMMARY:誕生会
DESCRIPTION:
URL:https://taiyons.jp/event/%e8%aa%95%e7%94%9f%e4%bc%9a-13/
ATTACH;FMTTYPE=image/jpeg:https://taiyons.jp/wp-content/uploads/2023/04/誕生会.jpg
END:VEVENT
BEGIN:VEVENT
DTSTART;VALUE=DATE:20260210
DTEND;VALUE=DATE:20260211
DTSTAMP:20260421T064632
CREATED:20260115T013834Z
LAST-MODIFIED:20260115T013834Z
UID:1975-1770681600-1770767999@taiyons.jp
SUMMARY:発表会予行練習
DESCRIPTION:
URL:https://taiyons.jp/event/%e7%99%ba%e8%a1%a8%e4%bc%9a%e4%ba%88%e8%a1%8c%e7%b7%b4%e7%bf%92-2/
END:VEVENT
BEGIN:VEVENT
DTSTART;VALUE=DATE:20260210
DTEND;VALUE=DATE:20260211
DTSTAMP:20260421T064632
CREATED:20260129T024911Z
LAST-MODIFIED:20260129T025025Z
UID:1997-1770681600-1770767999@taiyons.jp
SUMMARY:ダンス
DESCRIPTION:
URL:https://taiyons.jp/event/%e3%83%80%e3%83%b3%e3%82%b9-58/
ATTACH;FMTTYPE=image/jpeg:https://taiyons.jp/wp-content/uploads/2025/03/ダンスアイコン.jpg
END:VEVENT
BEGIN:VEVENT
DTSTART;VALUE=DATE:20260213
DTEND;VALUE=DATE:20260214
DTSTAMP:20260421T064632
CREATED:20260115T013355Z
LAST-MODIFIED:20260115T013355Z
UID:1969-1770940800-1771027199@taiyons.jp
SUMMARY:英語
DESCRIPTION:
URL:https://taiyons.jp/event/%e8%8b%b1%e8%aa%9e-61/
ATTACH;FMTTYPE=image/jpeg:https://taiyons.jp/wp-content/uploads/2023/04/英語教室.jpg
END:VEVENT
BEGIN:VEVENT
DTSTART;VALUE=DATE:20260214
DTEND;VALUE=DATE:20260215
DTSTAMP:20260421T064632
CREATED:20260115T013746Z
LAST-MODIFIED:20260115T013746Z
UID:1973-1771027200-1771113599@taiyons.jp
SUMMARY:発表会
DESCRIPTION:
URL:https://taiyons.jp/event/%e7%99%ba%e8%a1%a8%e4%bc%9a-3/
ATTACH;FMTTYPE=image/jpeg:https://taiyons.jp/wp-content/uploads/2024/02/発表会.jpg
END:VEVENT
BEGIN:VEVENT
DTSTART;VALUE=DATE:20260218
DTEND;VALUE=DATE:20260219
DTSTAMP:20260421T064632
CREATED:20260130T013329Z
LAST-MODIFIED:20260130T013329Z
UID:2005-1771372800-1771459199@taiyons.jp
SUMMARY:硬筆
DESCRIPTION:
URL:https://taiyons.jp/event/%e7%a1%ac%e7%ad%86-61/
ATTACH;FMTTYPE=image/jpeg:https://taiyons.jp/wp-content/uploads/2023/09/硬筆.jpg
END:VEVENT
BEGIN:VEVENT
DTSTART;VALUE=DATE:20260224
DTEND;VALUE=DATE:20260225
DTSTAMP:20260421T064632
CREATED:20260130T005540Z
LAST-MODIFIED:20260130T005619Z
UID:2001-1771891200-1771977599@taiyons.jp
SUMMARY:火災訓練
DESCRIPTION:
URL:https://taiyons.jp/event/%e7%81%ab%e7%81%bd%e8%a8%93%e7%b7%b4-15/
END:VEVENT
BEGIN:VEVENT
DTSTART;VALUE=DATE:20260225
DTEND;VALUE=DATE:20260226
DTSTAMP:20260421T064632
CREATED:20260130T013453Z
LAST-MODIFIED:20260130T013453Z
UID:2007-1771977600-1772063999@taiyons.jp
SUMMARY:硬筆
DESCRIPTION:
URL:https://taiyons.jp/event/%e7%a1%ac%e7%ad%86-62/
ATTACH;FMTTYPE=image/jpeg:https://taiyons.jp/wp-content/uploads/2023/09/硬筆.jpg
END:VEVENT
BEGIN:VEVENT
DTSTART;VALUE=DATE:20260304
DTEND;VALUE=DATE:20260305
DTSTAMP:20260421T064632
CREATED:20260228T033812Z
LAST-MODIFIED:20260228T033812Z
UID:2020-1772582400-1772668799@taiyons.jp
SUMMARY:硬筆
DESCRIPTION:
URL:https://taiyons.jp/event/%e7%a1%ac%e7%ad%86-63/
ATTACH;FMTTYPE=image/jpeg:https://taiyons.jp/wp-content/uploads/2023/09/硬筆.jpg
END:VEVENT
BEGIN:VEVENT
DTSTART;VALUE=DATE:20260306
DTEND;VALUE=DATE:20260307
DTSTAMP:20260421T064632
CREATED:20260228T033950Z
LAST-MODIFIED:20260228T033950Z
UID:2022-1772755200-1772841599@taiyons.jp
SUMMARY:誕生会
DESCRIPTION:
URL:https://taiyons.jp/event/%e8%aa%95%e7%94%9f%e4%bc%9a-14/
ATTACH;FMTTYPE=image/jpeg:https://taiyons.jp/wp-content/uploads/2023/04/誕生会.jpg
END:VEVENT
BEGIN:VEVENT
DTSTART;VALUE=DATE:20260316
DTEND;VALUE=DATE:20260317
DTSTAMP:20260421T064632
CREATED:20260228T034211Z
LAST-MODIFIED:20260228T034803Z
UID:2026-1773619200-1773705599@taiyons.jp
SUMMARY:交通安全教室
DESCRIPTION:
URL:https://taiyons.jp/event/%e4%ba%a4%e9%80%9a%e5%ae%89%e5%85%a8%e6%95%99%e5%ae%a4-4/
ATTACH;FMTTYPE=image/jpeg:https://taiyons.jp/wp-content/uploads/2024/02/交通安全教室.jpg
END:VEVENT
BEGIN:VEVENT
DTSTART;VALUE=DATE:20260317
DTEND;VALUE=DATE:20260318
DTSTAMP:20260421T064632
CREATED:20260306T034153Z
LAST-MODIFIED:20260306T034153Z
UID:2037-1773705600-1773791999@taiyons.jp
SUMMARY:ダンス
DESCRIPTION:
URL:https://taiyons.jp/event/%e3%83%80%e3%83%b3%e3%82%b9-59/
ATTACH;FMTTYPE=image/jpeg:https://taiyons.jp/wp-content/uploads/2025/03/ダンスアイコン.jpg
END:VEVENT
BEGIN:VEVENT
DTSTART;VALUE=DATE:20260318
DTEND;VALUE=DATE:20260319
DTSTAMP:20260421T064632
CREATED:20260228T034313Z
LAST-MODIFIED:20260228T034313Z
UID:2028-1773792000-1773878399@taiyons.jp
SUMMARY:硬筆
DESCRIPTION:
URL:https://taiyons.jp/event/%e7%a1%ac%e7%ad%86-64/
ATTACH;FMTTYPE=image/jpeg:https://taiyons.jp/wp-content/uploads/2023/09/硬筆.jpg
END:VEVENT
BEGIN:VEVENT
DTSTART;VALUE=DATE:20260318
DTEND;VALUE=DATE:20260319
DTSTAMP:20260421T064632
CREATED:20260228T034431Z
LAST-MODIFIED:20260228T034431Z
UID:2030-1773792000-1773878399@taiyons.jp
SUMMARY:サッカー
DESCRIPTION:
URL:https://taiyons.jp/event/%e3%82%b5%e3%83%83%e3%82%ab%e3%83%bc-31/
ATTACH;FMTTYPE=image/jpeg:https://taiyons.jp/wp-content/uploads/2023/04/サッカー.jpg
END:VEVENT
BEGIN:VEVENT
DTSTART;VALUE=DATE:20260319
DTEND;VALUE=DATE:20260320
DTSTAMP:20260421T064632
CREATED:20260228T034108Z
LAST-MODIFIED:20260312T023022Z
UID:2024-1773878400-1773964799@taiyons.jp
SUMMARY:消防訓練
DESCRIPTION:
URL:https://taiyons.jp/event/%e6%b6%88%e9%98%b2%e8%a8%93%e7%b7%b4-3/
ATTACH;FMTTYPE=image/jpeg:https://taiyons.jp/wp-content/uploads/2023/06/火災訓練.jpg
END:VEVENT
BEGIN:VEVENT
DTSTART;VALUE=DATE:20260324
DTEND;VALUE=DATE:20260325
DTSTAMP:20260421T064632
CREATED:20260306T034242Z
LAST-MODIFIED:20260306T034242Z
UID:2039-1774310400-1774396799@taiyons.jp
SUMMARY:ダンス
DESCRIPTION:
URL:https://taiyons.jp/event/%e3%83%80%e3%83%b3%e3%82%b9-60/
ATTACH;FMTTYPE=image/jpeg:https://taiyons.jp/wp-content/uploads/2025/03/ダンスアイコン.jpg
END:VEVENT
END:VCALENDAR
<!-- Compressed by TCD -->